BEGIN:VCALENDAR
VERSION:2.0
PRODID:-//wp-events-plugin.com//6.6.4.4//EN
TZID:Europe/Budapest
X-WR-TIMEZONE:Europe/Budapest
BEGIN:VEVENT
UID:28@boldoggellert.hu
DTSTART;TZID=Europe/Budapest;VALUE=DATE:20250812
DTEND;TZID=Europe/Budapest;VALUE=DATE:20250813
DTSTAMP:20250813T150408Z
URL:https://boldoggellert.hu/esemenyek/a-vendeglatoipari-muzeum-latta-vend
 egul-a-kronikus-pszichiatriai-osztaly-betegeit/
SUMMARY:A Vendéglátóipari Múzeum látta vendégül a Krónikus Pszichi
 átriai Osztály betegeit
DESCRIPTION:Az augusztus 12-ei melegben Várda doktornő osztályából 8 e
 mberrel (és 2 légkondis intézeti kocsival) meglátogattuk Óbudán a Ve
 ndéglátóipari Múzeumot.\n\nA külső program azoknak\, akik rég óta 
 bent fekszenek\, mindig izgalmas\, várakozással teli. Így volt ez most 
 is\, és ha valaki valamiért nem tudott jönni\, máris akadt a helyére 
 két újabb jelentkező.\n\nA múzeumban sok izgalmas dolgot láttunk\, f
 őként olyan tárgyakat\, melyek az idősebb generáció számára megid
 ézték a gyerekkort. A fiatalok pedig hallgathatták az idősebbek emlék
 eit a régi tárgyak kapcsán. Szerencsénk volt\, mert vezetést is kaptu
 nk (noha nem kértünk). A lelkes hölgy minden teremben mesélt valami k
 ülön érdekességet\, így pl. megismerhettük a régi vásárlási szok
 ások mellett a "bolt" szó etimológiáját\; megtudhattuk\, hogy gyakori
  volt a hitel\, hisz az emberek nem kaptak hónapról hónapra fizetést..
 . stb. A résztvevők nagyon érdeklődők voltak\, mindent alaposan szem
 ügyre vettek\, amit meg szabadott fogni\, azt megfogták\, és többen ho
 zzá is szóltak vezetőnk magyarázataihoz\, történeteihez.\n\nKöszön
 öm a nővérek segítségét\, akik mindenkit (akinek erre szüksége vol
 t) "gatyába ráztak" erre a programra.\n(Varga Tímea\, meseterapeuta)\n&
 nbsp\;\n\nA képek forrása: https://mkvm.hu/\n  
ATTACH;FMTTYPE=image/jpeg:https://boldoggellert.hu/wp-content/uploads/2025
 /08/vend4.jpg
CATEGORIES:Események
END:VEVENT
BEGIN:VTIMEZONE
TZID:Europe/Budapest
X-LIC-LOCATION:Europe/Budapest
BEGIN:DAYLIGHT
DTSTART:20250330T030000
TZOFFSETFROM:+0100
TZOFFSETTO:+0200
TZNAME:CEST
END:DAYLIGHT
END:VTIMEZONE
END:VCALENDAR